BEGIN:VCALENDAR
VERSION:2.0
PRODID:-//Tukios.com/
BEGIN:VEVENT
UID:5defcb9b-f023-4377-8dcf-978d3a9553fa@www.adamsmason.com
DTSTAMP:20260424T210936Z
DTSTART:20260430T160000Z
DTEND:20260430T170000Z
SUMMARY:Funeral Service
DESCRIPTION:
URL:https://www.adamsmason.com/obituaries/clifford-johnson-jr
LOCATION:Adams Mason Funeral Home 791 E Market St  Akron OH 44305
GEO:41.0748161;-81.492855
END:VEVENT
END:VCALENDAR