BEGIN:VCALENDAR
VERSION:2.0
PRODID:-//Tukios.com/
BEGIN:VEVENT
UID:67331321-a9e6-4ebd-86cf-0bb03ab4577c@www.adamsmason.com
DTSTAMP:20260424T211006Z
DTSTART:20260430T150000Z
DTEND:20260430T160000Z
SUMMARY:Visitation
DESCRIPTION:
URL:https://www.adamsmason.com/obituaries/clifford-johnson-jr
LOCATION:Adams Mason Funeral Home 791 E Market St  Akron OH 44305
GEO:41.0748161;-81.492855
END:VEVENT
END:VCALENDAR