BEGIN:VCALENDAR
VERSION:2.0
PRODID:-//Tukios.com/
BEGIN:VEVENT
UID:7446e16a-0684-4a4e-8afb-d0f75db5bc39@www.adamsmason.com
DTSTAMP:20260423T160530Z
DTSTART:20260424T200000Z
DTEND:20260424T220000Z
SUMMARY:Memorial Service
DESCRIPTION:
URL:https://www.adamsmason.com/obituaries/michael-demetroff
LOCATION:Adams Mason Funeral Home 791 E Market St  Akron OH 44305
GEO:41.0748161;-81.492855
END:VEVENT
END:VCALENDAR