BEGIN:VCALENDAR
VERSION:2.0
PRODID:-//Tukios.com/
BEGIN:VEVENT
UID:5c14cde5-722b-419c-ac6b-ce9da946cf83@www.adamsmason.com
DTSTAMP:20260420T194555Z
DTSTART:20260502T150000Z
DTEND:20260502T160000Z
SUMMARY:Visitation
DESCRIPTION:
URL:https://www.adamsmason.com/obituaries/sandi-lowther
LOCATION: 1065 Kubler Trail  Akron OH 44312
GEO:41.035327;-81.441609
END:VEVENT
END:VCALENDAR