BEGIN:VCALENDAR
VERSION:2.0
PRODID:-//Tukios.com/
BEGIN:VEVENT
UID:eab5390c-55e8-430c-b910-f675d4d59241@www.adamsmason.com
DTSTAMP:20260420T195213Z
DTSTART:20260502T160000Z
DTEND:20260502T180000Z
SUMMARY:Memorial Service
DESCRIPTION:
URL:https://www.adamsmason.com/obituaries/sandi-lowther
LOCATION: 1065 Kubler Trail  Akron OH 44312
GEO:41.035327;-81.441609
END:VEVENT
END:VCALENDAR