BEGIN:VCALENDAR
VERSION:2.0
PRODID:-//Tukios.com/
BEGIN:VEVENT
UID:a2b19d3a-9e02-4c6f-b441-6c42c010d732@www.adamsmason.com
DTSTAMP:20260424T210236Z
DTSTART:20260501T150000Z
DTEND:20260501T160000Z
SUMMARY:Mass
DESCRIPTION:
URL:https://www.adamsmason.com/obituaries/umesh-bhardwaj
LOCATION:Our Lady of Perpetual Help Catholic Church 342 South Chillicothe 
	Road  Aurora OH 44202
GEO:41.306776;-81.347139
END:VEVENT
END:VCALENDAR